BEGIN:VCALENDAR
VERSION:2.0
PRODID:-//https://ischiaeventi.it///NONSGML kigkonsult.se iCalcreator 2.10.15//
METHOD:PUBLISH
BEGIN:VEVENT
UID:20260420T135346UTC-534280ZPJD@https://ischiaeventi.it/
DTSTAMP:20260420T135346Z
DESCRIPTION:Evento sportivo Real Forio - Real Grazzanise\nIngresso gratuito
  https://ischiaeventi.it/eventi-ad-ischia/cultura/architettura/evento/2494
 00-evento-sportivo-real-forio-real-grazzanise
DTSTART:20260111T133000Z
DTEND:20260111T160000Z
LOCATION:Stadio - Salvatore Calise (Via Cava di Spinavola 17\, 80075\, Fori
 o\, Napoli)
SUMMARY:Evento sportivo Real Forio - Real Grazzanise
URL:https://ischiaeventi.it/eventi-ad-ischia/cultura/architettura/evento/24
 9400-evento-sportivo-real-forio-real-grazzanise
END:VEVENT
END:VCALENDAR
