BEGIN:VCALENDAR
VERSION:2.0
PRODID:-//https://ischiaeventi.it///NONSGML kigkonsult.se iCalcreator 2.10.15//
METHOD:PUBLISH
BEGIN:VEVENT
UID:20260422T085146UTC-43399aabjz@https://ischiaeventi.it/
DTSTAMP:20260422T085146Z
DESCRIPTION:a cura del Prof Leandro NicolellaRassegna Musicale Luce per la 
 Pace https://ischiaeventi.it/eventi-ad-ischia/cultura/architettura/evento/
 249438-luce-per-la-pace-i-solisti-del-buchner
DTSTART:20260421T170000Z
DTEND:20260421T190000Z
LOCATION:Santa Maria delle Grazie in San Pietro (Corso Vittoria Colonna\, 1
 91\, 80077 Ischia NA\, Italia)
SUMMARY:Luce per la pace: 'I Solisti del Buchner'
URL:https://ischiaeventi.it/eventi-ad-ischia/cultura/architettura/evento/24
 9438-luce-per-la-pace-i-solisti-del-buchner
END:VEVENT
END:VCALENDAR
