BEGIN:VCALENDAR
VERSION:2.0
PRODID:-//https://ischiaeventi.it///NONSGML kigkonsult.se iCalcreator 2.10.15//
METHOD:PUBLISH
BEGIN:VEVENT
UID:20260420T090026UTC-6211lA9XHx@https://ischiaeventi.it/
DTSTAMP:20260420T090026Z
DESCRIPTION:Esposizione Iacono Mattera Waschimps https://ischiaeventi.it/ev
 enti-ad-ischia/cultura/architettura/evento/28789-esposizione-iacono-matter
 a-waschimps
DTSTART:20240422T160000Z
DTEND:20240422T180000Z
LOCATION:Villa Arbusto (Corso Angelo Rizzoli\, 194\, 80076 Lacco Ameno NA\,
  Italia)
SUMMARY:Esposizione Iacono Mattera Waschimps
URL:https://ischiaeventi.it/eventi-ad-ischia/cultura/architettura/evento/28
 789-esposizione-iacono-mattera-waschimps
END:VEVENT
END:VCALENDAR
