BEGIN:VCALENDAR
VERSION:2.0
PRODID:-//https://ischiaeventi.it///NONSGML kigkonsult.se iCalcreator 2.10.15//
METHOD:PUBLISH
BEGIN:VEVENT
UID:20260420T121231UTC-3133osbiFN@https://ischiaeventi.it/
DTSTAMP:20260420T121231Z
DESCRIPTION:Gigi D'Alessio Outdooor 2024 https://ischiaeventi.it/eventi-ad-
 ischia/cultura/architettura/evento/29325-gigi-dalessio-outdoor-2024
DTSTART:20240727T190000Z
DTEND:20240727T213900Z
LOCATION:Parco Termale Negombo (Baia di S. Montano\, - 80076 Lacco Ameno NA
 \, Italia)
SUMMARY:Gigi D'Alessio Outdoor 2024
URL:https://ischiaeventi.it/eventi-ad-ischia/cultura/architettura/evento/29
 325-gigi-dalessio-outdoor-2024
END:VEVENT
END:VCALENDAR
