BEGIN:VCALENDAR
VERSION:2.0
PRODID:-//https://ischiaeventi.it///NONSGML kigkonsult.se iCalcreator 2.10.15//
METHOD:PUBLISH
BEGIN:VEVENT
UID:20260420T205939UTC-26946PmGil@https://ischiaeventi.it/
DTSTAMP:20260420T205939Z
DESCRIPTION:Concerto Sfera Ebbasta. Arena del negombo\, 19 agosto https://i
 schiaeventi.it/eventi-ad-ischia/cultura/architettura/evento/31214-sfera-eb
 basta-in-concerto
DTSTART:20240819T193000Z
DTEND:20240819T215900Z
LOCATION:Parco Termale Negombo (Baia di S. Montano\, - 80076 Lacco Ameno NA
 \, Italia)
SUMMARY:Sfera Ebbasta in concerto
URL:https://ischiaeventi.it/eventi-ad-ischia/cultura/architettura/evento/31
 214-sfera-ebbasta-in-concerto
END:VEVENT
END:VCALENDAR
