BEGIN:VCALENDAR
VERSION:2.0
PRODID:-//https://ischiaeventi.it///NONSGML kigkonsult.se iCalcreator 2.10.15//
METHOD:PUBLISH
BEGIN:VEVENT
UID:20260421T165315UTC-2611acUfwJ@https://ischiaeventi.it/
DTSTAMP:20260421T165315Z
DESCRIPTION:VITE-INCANTI E STORIE DI SERRARALETTURE TEATRALIZZATE DI MILENA
  CASSANO E CHITARRA DI DENIS TRANI https://ischiaeventi.it/eventi-ad-ischi
 a/cultura/architettura/evento/31231-summer-time-serrara-vite-incanti-e-sto
 rie-di-serrara-letture-teatralizzate
DTSTART:20240716T200000Z
DTEND:20240716T215200Z
LOCATION:Piazza Serrara (80070 Serrara Fontana NA\, Italia)
SUMMARY:Summer Time Serrara: VITE-INCANTI E STORIE DI SERRARA LETTURE TEATR
 ALIZZATE
URL:https://ischiaeventi.it/eventi-ad-ischia/cultura/architettura/evento/31
 231-summer-time-serrara-vite-incanti-e-storie-di-serrara-letture-teatraliz
 zate
END:VEVENT
END:VCALENDAR
