BEGIN:VCALENDAR
VERSION:2.0
PRODID:-//https://ischiaeventi.it///NONSGML kigkonsult.se iCalcreator 2.10.15//
METHOD:PUBLISH
BEGIN:VEVENT
UID:20260421T165320UTC-6581Id7p6u@https://ischiaeventi.it/
DTSTAMP:20260421T165320Z
DESCRIPTION:Summer Time Serrara: MUSICNIGHT CON DJ TONY ROMANO https://isch
 iaeventi.it/eventi-ad-ischia/cultura/architettura/evento/31232-summer-time
 -serrara-musicnight-con-dj-tony-romano
DTSTART:20240718T190000Z
DTEND:20240718T215200Z
LOCATION:Borgo di Sant'Angelo (Via Nazario Sauro\, Sant'angelo NA\, Italia)
SUMMARY:Summer Time Serrara: MUSICNIGHT CON DJ TONY ROMANO
URL:https://ischiaeventi.it/eventi-ad-ischia/cultura/architettura/evento/31
 232-summer-time-serrara-musicnight-con-dj-tony-romano
END:VEVENT
END:VCALENDAR
