BEGIN:VCALENDAR
VERSION:2.0
PRODID:-//https://ischiaeventi.it///NONSGML kigkonsult.se iCalcreator 2.10.15//
METHOD:PUBLISH
BEGIN:VEVENT
UID:20260421T181057UTC-7772IdT0BW@https://ischiaeventi.it/
DTSTAMP:20260421T181057Z
DESCRIPTION:&nbsp\;L'ARTE DI YAYOI KUSAMA. UN'ISOLA A POIS COLORATI ATTIVIT
 À LABORATORIALI PER BAMBINI A CURA DE IL MONDO DI ALICE https://ischiaeven
 ti.it/eventi-ad-ischia/cultura/architettura/evento/31242-summer-time-serra
 ra-larte-di-yayoi-kusama
DTSTART:20240807T170000Z
DTEND:20240807T190000Z
LOCATION:Sala Teatro Polifunzionale (Via Morgioni\, 80077 Ischia NA\, Itali
 a)
SUMMARY:Summer Time Serrara: L'ARTE DI YAYOI KUSAMA
URL:https://ischiaeventi.it/eventi-ad-ischia/cultura/architettura/evento/31
 242-summer-time-serrara-larte-di-yayoi-kusama
END:VEVENT
END:VCALENDAR
