BEGIN:VCALENDAR
VERSION:2.0
PRODID:-//https://ischiaeventi.it///NONSGML kigkonsult.se iCalcreator 2.10.15//
METHOD:PUBLISH
BEGIN:VEVENT
UID:20260421T165613UTC-8502Ahi1ZH@https://ischiaeventi.it/
DTSTAMP:20260421T165613Z
DESCRIPTION:Summer Time Serrara: BELVEDERE AL CALAR DEL SOLE MUSICA CON DJ 
 PAKINHO https://ischiaeventi.it/eventi-ad-ischia/cultura/architettura/even
 to/31243-summer-time-serrara-belvedere-al-calar-del-sole-musica-con-dj-pak
 inho
DTSTART:20240809T170000Z
DTEND:20240809T210000Z
LOCATION:Piazza Serrara (80070 Serrara Fontana NA\, Italia)
SUMMARY:Summer Time Serrara: BELVEDERE AL CALAR DEL SOLE MUSICA CON DJ PAKI
 NHO
URL:https://ischiaeventi.it/eventi-ad-ischia/cultura/architettura/evento/31
 243-summer-time-serrara-belvedere-al-calar-del-sole-musica-con-dj-pakinho
END:VEVENT
END:VCALENDAR
