BEGIN:VCALENDAR
VERSION:2.0
PRODID:-//https://ischiaeventi.it///NONSGML kigkonsult.se iCalcreator 2.10.15//
METHOD:PUBLISH
BEGIN:VEVENT
UID:20260421T165619UTC-5162mahGOl@https://ischiaeventi.it/
DTSTAMP:20260421T165619Z
DESCRIPTION:Summer Time Serrara: FESTA DEL MATTONCINO A CURA DELL'ASSOCIAZI
 ONE LEGAMI EF https://ischiaeventi.it/eventi-ad-ischia/cultura/architettur
 a/evento/31256-summer-time-serrara-festa-del-mattoncino-a-cura-dellassocia
 zione-legami-ef
DTSTART:20240914T190000Z
DTEND:20240914T210000Z
LOCATION:Centro Polifunzionale di Fontana (Piazza Arturo Trofa - Serrara)
SUMMARY:Summer Time Serrara: FESTA DEL MATTONCINO A CURA DELL'ASSOCIAZIONE 
 LEGAMI EF
URL:https://ischiaeventi.it/eventi-ad-ischia/cultura/architettura/evento/31
 256-summer-time-serrara-festa-del-mattoncino-a-cura-dellassociazione-legam
 i-ef
END:VEVENT
END:VCALENDAR
