BEGIN:VCALENDAR
VERSION:2.0
PRODID:-//https://ischiaeventi.it///NONSGML kigkonsult.se iCalcreator 2.10.15//
METHOD:PUBLISH
BEGIN:VEVENT
UID:20260420T104247UTC-08521JJ85d@https://ischiaeventi.it/
DTSTAMP:20260420T104247Z
DESCRIPTION:19.00 ZAMPOGNE E CIARAMELLE OLTRE IL NATALE sapori e suoni anti
 chi assieme con le tradizionali figure storiche degli zampognari nel Centr
 o Storico di Forio\n&nbsp\; https://ischiaeventi.it/eventi-ad-ischia/cultu
 ra/architettura/evento/34119-forio-merryland-zampogne-e-ciaramelle-oltre-i
 l-natale
DTSTART:20241226T180000Z
DTEND:20241226T210000Z
LOCATION:Comune di Forio (Piazza Municipio\, 1\, 80075 Forio NA\, Italia)
SUMMARY:Forio MerryLand: ZAMPOGNE E CIARAMELLE OLTRE IL NATALE
URL:https://ischiaeventi.it/eventi-ad-ischia/cultura/architettura/evento/34
 119-forio-merryland-zampogne-e-ciaramelle-oltre-il-natale
END:VEVENT
END:VCALENDAR
