BEGIN:VCALENDAR
VERSION:2.0
PRODID:-//https://ischiaeventi.it///NONSGML kigkonsult.se iCalcreator 2.10.15//
METHOD:PUBLISH
BEGIN:VEVENT
UID:20260421T001501UTC-7837KxshOV@https://ischiaeventi.it/
DTSTAMP:20260421T001501Z
DESCRIPTION:Concerto di Natale presentato da Buon Pastore https://ischiaeve
 nti.it/eventi-ad-ischia/cultura/convegni/evento/249363-natale-a-ischia-con
 certo-di-natale
DTSTART:20251221T183000Z
DTEND:20251221T200000Z
LOCATION:Chiesa Buon Pastore (Via Leonardo Mazzella\, 119\, 80077 Ischia NA
 \, Italia)
SUMMARY:Natale a Ischia: concerto di Natale
URL:https://ischiaeventi.it/eventi-ad-ischia/cultura/convegni/evento/249363
 -natale-a-ischia-concerto-di-natale
END:VEVENT
END:VCALENDAR
