BEGIN:VCALENDAR
VERSION:2.0
PRODID:-//https://ischiaeventi.it///NONSGML kigkonsult.se iCalcreator 2.10.15//
METHOD:PUBLISH
BEGIN:VEVENT
UID:20260420T120935UTC-0710ewtBMx@https://ischiaeventi.it/
DTSTAMP:20260420T120935Z
DESCRIPTION:Eventi e rappresentazioni Letture animateConcerti e performance
  Mostre fotografiche e arti visive Degustazioni ispirate al mondo anticoIn
 contri con gli autori Presentazione di libriConferenze e dibattitiLetture 
 di poesieXII EDIZIONE https://ischiaeventi.it/eventi-ad-ischia/cultura/con
 vegni/evento/249729-la-notte-nazionale-del-liceo-classico
DTSTART:20260327T170000Z
DTEND:20260327T225900Z
LOCATION:LICEO STATALE 'G. Buchner' (n. Italia\, Via delle Ginestre\, 39\, 
 80077 Ischia NA\, Italia)
SUMMARY:La notte nazionale del liceo classico
URL:https://ischiaeventi.it/eventi-ad-ischia/cultura/convegni/evento/249729
 -la-notte-nazionale-del-liceo-classico
END:VEVENT
END:VCALENDAR
