BEGIN:VCALENDAR
VERSION:2.0
PRODID:-//https://ischiaeventi.it///NONSGML kigkonsult.se iCalcreator 2.10.15//
METHOD:PUBLISH
BEGIN:VEVENT
UID:20260420T170529UTC-0588EuGAV1@https://ischiaeventi.it/
DTSTAMP:20260420T170529Z
DESCRIPTION:Presepe vivente a Ischia https://ischiaeventi.it/eventi-ad-isch
 ia/cultura/convegni/evento/27702-presepe-vivente
DTSTART:20231230T153000Z
DTEND:20231230T193000Z
LOCATION:Torre del Molino (Spiaggia dei Pescatori\, 80077 Ischia NA\, Itali
 a)
SUMMARY:Presepe Vivente 
URL:https://ischiaeventi.it/eventi-ad-ischia/cultura/convegni/evento/27702-
 presepe-vivente
END:VEVENT
END:VCALENDAR
