BEGIN:VCALENDAR
VERSION:2.0
PRODID:-//https://ischiaeventi.it///NONSGML kigkonsult.se iCalcreator 2.10.15//
METHOD:PUBLISH
BEGIN:VEVENT
UID:20260422T143543UTC-9948jgi5xZ@https://ischiaeventi.it/
DTSTAMP:20260422T143543Z
DESCRIPTION:Domenica 20 aprile - DOMENICA DI PASQUA\n10.15 Messa in p.zza M
 unicipio\n&nbsp\; https://ischiaeventi.it/eventi-ad-ischia/cultura/convegn
 i/evento/28901-santa-messa-di-pasqua-a-forio
DTSTART:20250420T081500Z
DTEND:20250420T100000Z
LOCATION:Piazza Municipio\, Forio (Piazza Municipio\, 9\, 80075 Forio NA\, 
 Italia)
SUMMARY:Santa messa di Pasqua a Forio
URL:https://ischiaeventi.it/eventi-ad-ischia/cultura/convegni/evento/28901-
 santa-messa-di-pasqua-a-forio
END:VEVENT
END:VCALENDAR
