BEGIN:VCALENDAR
VERSION:2.0
PRODID:-//https://ischiaeventi.it///NONSGML kigkonsult.se iCalcreator 2.10.15//
METHOD:PUBLISH
BEGIN:VEVENT
UID:20260421T191104UTC-50565DltLA@https://ischiaeventi.it/
DTSTAMP:20260421T191104Z
DESCRIPTION: https://ischiaeventi.it/eventi-ad-ischia/cultura/convegni/even
 to/31002-inaugurazione-mostra-personale-tea-costa
DTSTART:20240719T163000Z
DTEND:20240719T190000Z
LOCATION:Torre del Molino (Spiaggia dei Pescatori\, 80077 Ischia NA\, Itali
 a)
SUMMARY:Inaugurazione Mostra personale Tea Costa
URL:https://ischiaeventi.it/eventi-ad-ischia/cultura/convegni/evento/31002-
 inaugurazione-mostra-personale-tea-costa
END:VEVENT
END:VCALENDAR
