BEGIN:VCALENDAR
VERSION:2.0
PRODID:-//https://ischiaeventi.it///NONSGML kigkonsult.se iCalcreator 2.10.15//
METHOD:PUBLISH
BEGIN:VEVENT
UID:20260420T135557UTC-2669BWzr1B@https://ischiaeventi.it/
DTSTAMP:20260420T135557Z
DESCRIPTION:Summer Time Serrara: SAGRA DEL FAGOTTO A CURA DELLA PROLOCO SUC
 CHIVO https://ischiaeventi.it/eventi-ad-ischia/cultura/convegni/evento/312
 55-summer-time-serrara-sagra-del-fagotto-a-cura-della-proloco-succhivo
DTSTART:20240907T190000Z
DTEND:20240907T210000Z
LOCATION:Succhivo (Provinciale Succhivo Sant'Angelo\, 21-27\, 80070 Sant'An
 gelo NA\, Italy)
SUMMARY:Summer Time Serrara: SAGRA DEL FAGOTTO A CURA DELLA PROLOCO SUCCHIV
 O
URL:https://ischiaeventi.it/eventi-ad-ischia/cultura/convegni/evento/31255-
 summer-time-serrara-sagra-del-fagotto-a-cura-della-proloco-succhivo
END:VEVENT
END:VCALENDAR
