BEGIN:VCALENDAR
VERSION:2.0
PRODID:-//https://ischiaeventi.it///NONSGML kigkonsult.se iCalcreator 2.10.15//
METHOD:PUBLISH
BEGIN:VEVENT
UID:20260420T210040UTC-1687oCKj1B@https://ischiaeventi.it/
DTSTAMP:20260420T210040Z
DESCRIPTION:18:00 e 19:00 CHRISTMAS ANGELS recital di Natale in concerto e 
 spettacolo di canto moderno con nel Chiostro di San Francesco in Piazza Mu
 nicipio Forio&nbsp\; https://ischiaeventi.it/eventi-ad-ischia/cultura/conv
 egni/evento/34095-forio-merryland-christmas-angels
DTSTART:20241216T170000Z
DTEND:20241216T193000Z
LOCATION:Comune di Forio (Piazza Municipio\, 1\, 80075 Forio NA\, Italia)
SUMMARY:Forio MerryLand: CHRISTMAS ANGELS
URL:https://ischiaeventi.it/eventi-ad-ischia/cultura/convegni/evento/34095-
 forio-merryland-christmas-angels
END:VEVENT
END:VCALENDAR
