BEGIN:VCALENDAR
VERSION:2.0
PRODID:-//https://ischiaeventi.it///NONSGML kigkonsult.se iCalcreator 2.10.15//
METHOD:PUBLISH
BEGIN:VEVENT
UID:20260421T132142UTC-4598eABFEL@https://ischiaeventi.it/
DTSTAMP:20260421T132142Z
DESCRIPTION:16.00 JAZZ ITINERANTE con i simpatici musicisti che suoneranno 
 lungo il Corso di Forio https://ischiaeventi.it/eventi-ad-ischia/cultura/c
 onvegni/evento/34123-forio-merryland-jazz-itinerante
DTSTART:20241228T150000Z
DTEND:20241228T170000Z
LOCATION:Comune di Forio (Piazza Municipio\, 1\, 80075 Forio NA\, Italia)
SUMMARY:Forio MerryLand: JAZZ ITINERANTE
URL:https://ischiaeventi.it/eventi-ad-ischia/cultura/convegni/evento/34123-
 forio-merryland-jazz-itinerante
END:VEVENT
END:VCALENDAR
