BEGIN:VCALENDAR
VERSION:2.0
PRODID:-//https://ischiaeventi.it///NONSGML kigkonsult.se iCalcreator 2.10.15//
METHOD:PUBLISH
BEGIN:VEVENT
UID:20260420T115931UTC-1888cn4lo4@https://ischiaeventi.it/
DTSTAMP:20260420T115931Z
DESCRIPTION:Antico Borgo di Noia ore 16.00 Presepe vivente a cura di Regina
  di Fiori https://ischiaeventi.it/eventi-ad-ischia/cultura/convegni/evento
 /36889-mare-copp-mas-presepe-vivente
DTSTART:20241227T150000Z
DTEND:20241227T180000Z
LOCATION:Borgo di Noia\, Serrara Fontana (80070 Serrara Fontana NA\, Italia
 )
SUMMARY:Mare Copp Mas: Presepe vivente
URL:https://ischiaeventi.it/eventi-ad-ischia/cultura/convegni/evento/36889-
 mare-copp-mas-presepe-vivente
END:VEVENT
END:VCALENDAR
