BEGIN:VCALENDAR
VERSION:2.0
PRODID:-//https://ischiaeventi.it///NONSGML kigkonsult.se iCalcreator 2.10.15//
METHOD:PUBLISH
BEGIN:VEVENT
UID:20260422T090331UTC-9142wmG4w9@https://ischiaeventi.it/
DTSTAMP:20260422T090331Z
DESCRIPTION:Domenica 1 giugno dalle 21:30 a Piazza San Gaetano https://isch
 iaeventi.it/eventi-ad-ischia/cultura/convegni/evento/80718-personal-in-con
 certo
DTSTART:20250601T193000Z
DTEND:20250601T203300Z
LOCATION:Vico San Gaetano\, Forio (Via Cesare Piro\, 10\, 80075 Forio NA\, 
 Italia)
SUMMARY:PERSONAL IN CONCERTO
URL:https://ischiaeventi.it/eventi-ad-ischia/cultura/convegni/evento/80718-
 personal-in-concerto
END:VEVENT
END:VCALENDAR
