BEGIN:VCALENDAR
VERSION:2.0
PRODID:-//https://ischiaeventi.it///NONSGML kigkonsult.se iCalcreator 2.10.15//
METHOD:PUBLISH
BEGIN:VEVENT
UID:20260420T225837UTC-4984n4Jo2t@https://ischiaeventi.it/
DTSTAMP:20260420T225837Z
DESCRIPTION:Presentazione del libro&nbsp\;di Giuliana Covella -Apri gli occ
 hi (FIDAPA-Sez. Ischia) https://ischiaeventi.it/eventi-ad-ischia/cultura/e
 vento/249183-natale-all-antoniana-presentazione-del-libro-di-giuliana-cove
 lla
DTSTART:20251212T163000Z
DTEND:20251212T180000Z
LOCATION:Biblioteca Antoniana (Rampe S.Antonio\, 5\, 80077 - Ischia)
SUMMARY:Natale all' Antoniana: Presentazione del libro di Giuliana Covella
URL:https://ischiaeventi.it/eventi-ad-ischia/cultura/evento/249183-natale-a
 ll-antoniana-presentazione-del-libro-di-giuliana-covella
END:VEVENT
END:VCALENDAR
