BEGIN:VCALENDAR
VERSION:2.0
PRODID:-//https://ischiaeventi.it///NONSGML kigkonsult.se iCalcreator 2.10.15//
METHOD:PUBLISH
BEGIN:VEVENT
UID:20260420T103249UTC-26190a8giA@https://ischiaeventi.it/
DTSTAMP:20260420T103249Z
DESCRIPTION:Eco Art: arte\, reciclo e natuta https://ischiaeventi.it/eventi
 -ad-ischia/cultura/mostre/evento/31480-eco-art-arte-reciclo-e-natuta
DTSTART:20240725T180000Z
DTEND:20240725T203000Z
LOCATION:Agriturismo La pergola (Via S. Giuseppe\, 24\, 80075 Forio NA\, It
 alia)
SUMMARY:Eco Art: arte\, reciclo e natuta
URL:https://ischiaeventi.it/eventi-ad-ischia/cultura/mostre/evento/31480-ec
 o-art-arte-reciclo-e-natuta
END:VEVENT
END:VCALENDAR
