BEGIN:VCALENDAR
VERSION:2.0
PRODID:-//https://ischiaeventi.it///NONSGML kigkonsult.se iCalcreator 2.10.15//
METHOD:PUBLISH
BEGIN:VEVENT
UID:20260420T084640UTC-1664AAtv7z@https://ischiaeventi.it/
DTSTAMP:20260420T084640Z
DESCRIPTION:LUNAPARK INPIAZZETTAMascotte Zucchero filatoArea popcorn Area p
 allonciniLuigi FioranteJUGGLER PERFORMERSpettacoli Giocolieri Trampolieri 
 Sfere &amp\; FuocoMusica &amp\; balli https://ischiaeventi.it/eventi-ad-is
 chia/tradizioni/gastronomia/evento/249539-carnevale-a-ischia
DTSTART:20260217T093000Z
DTEND:20260217T120000Z
LOCATION:piazzetta San Girolamo Ischia  ()
SUMMARY:CARNEVALE A ISCHIA
URL:https://ischiaeventi.it/eventi-ad-ischia/tradizioni/gastronomia/evento/
 249539-carnevale-a-ischia
END:VEVENT
END:VCALENDAR
