BEGIN:VCALENDAR
VERSION:2.0
PRODID:-//https://ischiaeventi.it///NONSGML kigkonsult.se iCalcreator 2.10.15//
METHOD:PUBLISH
BEGIN:VEVENT
UID:20260420T103440UTC-4812UJSbD9@https://ischiaeventi.it/
DTSTAMP:20260420T103440Z
DESCRIPTION:Festa della Presentazione al Tempio (Candelora)Ore 18.30 S. Mes
 sa. Reposizione delle statueOre 20.30 Percorso di Catechesi: Una vita alla
  luce.Come vestire il tuo giornoSpezzeranno il Pane della Parola di Dio gl
 i Oblati di Maria ImmacolataDurante i giorni della festa sarà aperta la Pe
 sca di Beneficenza. https://ischiaeventi.it/eventi-ad-ischia/tradizioni/ra
 ppresentazioni-artistiche/evento/249463-festeggiamenti-in-onore-di-san-cir
 o-candelora
DTSTART:20260202T173000Z
DTEND:20260202T190000Z
LOCATION:San Ciro (Via delle Terme\, 44\, 80077 Ischia NA\, Italia)
SUMMARY:Festeggiamenti in onore di San Ciro: Candelora
URL:https://ischiaeventi.it/eventi-ad-ischia/tradizioni/rappresentazioni-ar
 tistiche/evento/249463-festeggiamenti-in-onore-di-san-ciro-candelora
END:VEVENT
END:VCALENDAR
