BEGIN:VCALENDAR
VERSION:2.0
PRODID:-//https://ischiaeventi.it///NONSGML kigkonsult.se iCalcreator 2.10.15//
METHOD:PUBLISH
BEGIN:VEVENT
UID:20260420T103253UTC-3862P3ScIT@https://ischiaeventi.it/
DTSTAMP:20260420T103253Z
DESCRIPTION:Ore 10\,30 Benedizione delle palme a seguire processione https:
 //ischiaeventi.it/eventi-ad-ischia/tradizioni/rappresentazioni-artistiche/
 evento/249788-pasqua-a-ischia-benedizione-delle-palme
DTSTART:20260329T063000Z
DTEND:20260329T113000Z
LOCATION:Piedimonte di Barano d'Ischia (Via Provinciale Duca degli Abruzzi\
 , 80070 Barano D'ischia NA\, Italy)
SUMMARY:Pasqua a Ischia: benedizione delle palme
URL:https://ischiaeventi.it/eventi-ad-ischia/tradizioni/rappresentazioni-ar
 tistiche/evento/249788-pasqua-a-ischia-benedizione-delle-palme
END:VEVENT
END:VCALENDAR
