BEGIN:VCALENDAR
VERSION:2.0
PRODID:-//https://ischiaeventi.it///NONSGML kigkonsult.se iCalcreator 2.10.15//
METHOD:PUBLISH
BEGIN:VEVENT
UID:20260420T101947UTC-0589vx5ahI@https://ischiaeventi.it/
DTSTAMP:20260420T101947Z
DESCRIPTION:Caffè napoletano duo https://ischiaeventi.it/eventi-ad-ischia/t
 radizioni/rappresentazioni-artistiche/evento/31456-caffe-napoletano-duo
DTSTART:20240721T200000Z
DTEND:20240721T213000Z
LOCATION:Piazza Marina Casamicciola Terme (Corso Luigi Manzi\, 1\, 80074 Ca
 samicciola Terme NA\, Italy)
SUMMARY:Caffè napoletano duo
URL:https://ischiaeventi.it/eventi-ad-ischia/tradizioni/rappresentazioni-ar
 tistiche/evento/31456-caffe-napoletano-duo
END:VEVENT
END:VCALENDAR
