BEGIN:VCALENDAR
VERSION:2.0
PRODID:-//https://ischiaeventi.it///NONSGML kigkonsult.se iCalcreator 2.10.15//
METHOD:PUBLISH
BEGIN:VEVENT
UID:20260420T152706UTC-7700Ivggkv@https://ischiaeventi.it/
DTSTAMP:20260420T152706Z
DESCRIPTION: https://ischiaeventi.it/eventi-ad-ischia/tradizioni/rappresent
 azioni-artistiche/evento/31457-casamicciola-sapori-e-tradizioni
DTSTART:20240721T190000Z
DTEND:20240721T213900Z
LOCATION:Corso Luigi Manzi\, 95\, 80074 Casamicciola Terme NA\, Italia ()
SUMMARY:Casamicciola: sapori e tradizioni
URL:https://ischiaeventi.it/eventi-ad-ischia/tradizioni/rappresentazioni-ar
 tistiche/evento/31457-casamicciola-sapori-e-tradizioni
END:VEVENT
END:VCALENDAR
