BEGIN:VCALENDAR
VERSION:2.0
PRODID:-//https://ischiaeventi.it///NONSGML kigkonsult.se iCalcreator 2.10.15//
METHOD:PUBLISH
BEGIN:VEVENT
UID:20260420T103929UTC-6416GMehd7@https://ischiaeventi.it/
DTSTAMP:20260420T103929Z
DESCRIPTION:Festeggiamenti in onore di San Domenico https://ischiaeventi.it
 /eventi-ad-ischia/tradizioni/rappresentazioni-artistiche/evento/31603-fest
 eggiamenti-in-onore-di-san-domenico
DTSTART:20240803T193000Z
DTEND:20240803T214000Z
LOCATION:Chiesa di San Domenico (Via Campagnano\, 10\, 80077 Ischia NA\, It
 alia)
SUMMARY:Festeggiamenti in onore di San Domenico
URL:https://ischiaeventi.it/eventi-ad-ischia/tradizioni/rappresentazioni-ar
 tistiche/evento/31603-festeggiamenti-in-onore-di-san-domenico
END:VEVENT
END:VCALENDAR
