BEGIN:VCALENDAR
VERSION:2.0
PRODID:-//https://ischiaeventi.it///NONSGML kigkonsult.se iCalcreator 2.10.15//
METHOD:PUBLISH
BEGIN:VEVENT
UID:20260420T103302UTC-2967XlhCaI@https://ischiaeventi.it/
DTSTAMP:20260420T103302Z
DESCRIPTION:San Ciro accoglie l'urna di San Giovan Giuseppe della Croce htt
 ps://ischiaeventi.it/eventi-ad-ischia/tradizioni/rappresentazioni-artistic
 he/evento/43822-san-ciro-accoglie-lurna-di-san-giovan-giuseppe-della-croce
DTSTART;VALUE=DATE:20250222
LOCATION:Sagrato della Chiesa di San Ciro (Via delle Terme\, 176\, 80077 Is
 chia NA\, Italia)
SUMMARY:San Ciro accoglie l'urna di San Giovan Giuseppe della Croce
URL:https://ischiaeventi.it/eventi-ad-ischia/tradizioni/rappresentazioni-ar
 tistiche/evento/43822-san-ciro-accoglie-lurna-di-san-giovan-giuseppe-della
 -croce
END:VEVENT
END:VCALENDAR
