BEGIN:VCALENDAR
VERSION:2.0
PRODID:-//https://ischiaeventi.it///NONSGML kigkonsult.se iCalcreator 2.10.15//
METHOD:PUBLISH
BEGIN:VEVENT
UID:20260420T124428UTC-1729hNiwVU@https://ischiaeventi.it/
DTSTAMP:20260420T124428Z
DESCRIPTION:Mostra Veranica Acunto\nIngresso Libero\n&nbsp\; https://ischia
 eventi.it/eventi-ad-ischia/tradizioni/rappresentazioni-artistiche/evento/6
 8461-mostra-veronica-acunto
DTSTART:20250421T173000Z
DTEND:20250421T190000Z
LOCATION:Villa Arbusto (Corso Angelo Rizzoli\, 194\, 80076 Lacco Ameno NA\,
  Italia)
SUMMARY:Mostra Veronica Acunto
URL:https://ischiaeventi.it/eventi-ad-ischia/tradizioni/rappresentazioni-ar
 tistiche/evento/68461-mostra-veronica-acunto
END:VEVENT
END:VCALENDAR
