BEGIN:VCALENDAR
VERSION:2.0
PRODID:-//https://ischiaeventi.it///NONSGML kigkonsult.se iCalcreator 2.10.15//
METHOD:PUBLISH
BEGIN:VEVENT
UID:20260424T012711UTC-2328MMGiuh@https://ischiaeventi.it/
DTSTAMP:20260424T012711Z
DESCRIPTION:Cinema Excelsior\nIngresso libero sino ad esaurimento posti\n20
 :45&nbsp\; F1 di Joseph Kosinski (USA\, 2025) – 155’\n https://ischiaevent
 i.it/eventi-passati/evento/100767-ischia-global-fest-2025-f1
DTSTART:20250706T184500Z
DTEND:20250706T213000Z
LOCATION:Cinema Excelsior (Via Francesco Sogliuzzo\, 18\, 80077 Ischia NA\,
  Italia)
SUMMARY:Ischia Global Fest 2025: F1 
URL:https://ischiaeventi.it/eventi-passati/evento/100767-ischia-global-fest
 -2025-f1
END:VEVENT
END:VCALENDAR
