BEGIN:VCALENDAR
VERSION:2.0
PRODID:-//https://ischiaeventi.it///NONSGML kigkonsult.se iCalcreator 2.10.15//
METHOD:PUBLISH
BEGIN:VEVENT
UID:20260424T041822UTC-3271naHvIu@https://ischiaeventi.it/
DTSTAMP:20260424T041822Z
DESCRIPTION:Cinema Excelsior\nIngresso libero sino ad esaurimento posti\n23
 :30 CRIATURE di Cecile Allegra (Italia\, 2024) – 101’\n https://ischiaeven
 ti.it/eventi-passati/evento/100768-ischia-global-fest-2025-criature
DTSTART:20250706T213000Z
DTEND:20250706T215900Z
LOCATION:Cinema Excelsior (Via Francesco Sogliuzzo\, 18\, 80077 Ischia NA\,
  Italia)
SUMMARY:Ischia Global Fest 2025: CRIATURE
URL:https://ischiaeventi.it/eventi-passati/evento/100768-ischia-global-fest
 -2025-criature
END:VEVENT
END:VCALENDAR
