BEGIN:VCALENDAR
VERSION:2.0
PRODID:-//https://ischiaeventi.it///NONSGML kigkonsult.se iCalcreator 2.10.15//
METHOD:PUBLISH
BEGIN:VEVENT
UID:20260424T012826UTC-5428MGcLDh@https://ischiaeventi.it/
DTSTAMP:20260424T012826Z
DESCRIPTION:Cinema Excelsior\nIngresso libero sino ad esaurimento posti\n19
 :00 CATTIVISSIMO ME 4 di Chris Renaud\, Patrick Delage (USA\, 2024) – 94’
 \n https://ischiaeventi.it/eventi-passati/evento/100770-ischia-global-fest
 -2025-cattivissimo-me-4
DTSTART:20250707T170000Z
DTEND:20250707T185900Z
LOCATION:Cinema Excelsior (Via Francesco Sogliuzzo\, 18\, 80077 Ischia NA\,
  Italia)
SUMMARY:Ischia Global Fest 2025: CATTIVISSIMO ME 4
URL:https://ischiaeventi.it/eventi-passati/evento/100770-ischia-global-fest
 -2025-cattivissimo-me-4
END:VEVENT
END:VCALENDAR
