BEGIN:VCALENDAR
VERSION:2.0
PRODID:-//https://ischiaeventi.it///NONSGML kigkonsult.se iCalcreator 2.10.15//
METHOD:PUBLISH
BEGIN:VEVENT
UID:20260424T012826UTC-1361Ot3lTz@https://ischiaeventi.it/
DTSTAMP:20260424T012826Z
DESCRIPTION:Cinema Excelsior\nIngresso libero sino ad esaurimento posti\n21
 :00 COME FRATELLI di Antonio Padovan (Italia\, 2025) – 90’\n https://ischi
 aeventi.it/eventi-passati/evento/100771-ischia-global-fest-2025-come-frate
 lli
DTSTART:20250707T190000Z
DTEND:20250707T205900Z
LOCATION:Cinema Excelsior (Via Francesco Sogliuzzo\, 18\, 80077 Ischia NA\,
  Italia)
SUMMARY:Ischia Global Fest 2025: COME FRATELLI 
URL:https://ischiaeventi.it/eventi-passati/evento/100771-ischia-global-fest
 -2025-come-fratelli
END:VEVENT
END:VCALENDAR
