BEGIN:VCALENDAR
VERSION:2.0
PRODID:-//https://ischiaeventi.it///NONSGML kigkonsult.se iCalcreator 2.10.15//
METHOD:PUBLISH
BEGIN:VEVENT
UID:20260424T012749UTC-0753r7oHfU@https://ischiaeventi.it/
DTSTAMP:20260424T012749Z
DESCRIPTION:Cinema Excelsior\nIngresso libero sino ad esaurimento posti\n22
 :45 I PECCATORI di Ryan Coogler (USA/Australia/Canada\, 2025) – 137’\n htt
 ps://ischiaeventi.it/eventi-passati/evento/100772-ischia-global-fest-2025-
 i-peccatori
DTSTART:20250707T204500Z
DTEND:20250707T215900Z
LOCATION:Cinema Excelsior (Via Francesco Sogliuzzo\, 18\, 80077 Ischia NA\,
  Italia)
SUMMARY:Ischia Global Fest 2025: I PECCATORI 
URL:https://ischiaeventi.it/eventi-passati/evento/100772-ischia-global-fest
 -2025-i-peccatori
END:VEVENT
END:VCALENDAR
