BEGIN:VCALENDAR
VERSION:2.0
PRODID:-//https://ischiaeventi.it///NONSGML kigkonsult.se iCalcreator 2.10.15//
METHOD:PUBLISH
BEGIN:VEVENT
UID:20260423T225223UTC-2303LH1UOm@https://ischiaeventi.it/
DTSTAMP:20260423T225223Z
DESCRIPTION:Cinema Excelsior\nIngresso libero sino ad esaurimento posti\n17
 :00 MALAMORE di Francesca Schirru (Italia\, 2025) – 107’\n https://ischiae
 venti.it/eventi-passati/evento/100777-ischia-global-fest-2025-malamore
DTSTART:20250709T150000Z
DTEND:20250709T165900Z
LOCATION:Cinema Excelsior (Via Francesco Sogliuzzo\, 18\, 80077 Ischia NA\,
  Italia)
SUMMARY:Ischia Global Fest 2025: MALAMORE
URL:https://ischiaeventi.it/eventi-passati/evento/100777-ischia-global-fest
 -2025-malamore
END:VEVENT
END:VCALENDAR
