BEGIN:VCALENDAR
VERSION:2.0
PRODID:-//https://ischiaeventi.it///NONSGML kigkonsult.se iCalcreator 2.10.15//
METHOD:PUBLISH
BEGIN:VEVENT
UID:20260423T225341UTC-6250BvWHXd@https://ischiaeventi.it/
DTSTAMP:20260423T225341Z
DESCRIPTION:Cinema Excelsior\nIngresso libero sino ad esaurimento posti\n23
 .00 IL NIBBIO di Alessandro Tonda (Italia/Belgio\, 2025) – 109’\n https://
 ischiaeventi.it/eventi-passati/evento/100780-ischia-global-fest-2025-il-ni
 bbio
DTSTART:20250709T210000Z
DTEND:20250709T215900Z
LOCATION:Cinema Excelsior (Via Francesco Sogliuzzo\, 18\, 80077 Ischia NA\,
  Italia)
SUMMARY:Ischia Global Fest 2025: IL NIBBIO 
URL:https://ischiaeventi.it/eventi-passati/evento/100780-ischia-global-fest
 -2025-il-nibbio
END:VEVENT
END:VCALENDAR
