BEGIN:VCALENDAR
VERSION:2.0
PRODID:-//https://ischiaeventi.it///NONSGML kigkonsult.se iCalcreator 2.10.15//
METHOD:PUBLISH
BEGIN:VEVENT
UID:20260423T225803UTC-3744FuIG7E@https://ischiaeventi.it/
DTSTAMP:20260423T225803Z
DESCRIPTION:Cinema Excelsior\nIngresso libero sino ad esaurimento posti\n23
 :00 STORIA DI UNA NOTTE di Paolo Costella (Italia\, 2024) – 90’\n&nbsp\;\n
  https://ischiaeventi.it/eventi-passati/evento/100784-ischia-global-fest-2
 025-storia-di-una-notte
DTSTART:20250710T210000Z
DTEND:20250710T215900Z
LOCATION:Cinema Excelsior (Via Francesco Sogliuzzo\, 18\, 80077 Ischia NA\,
  Italia)
SUMMARY:Ischia Global Fest 2025: STORIA DI UNA NOTTE
URL:https://ischiaeventi.it/eventi-passati/evento/100784-ischia-global-fest
 -2025-storia-di-una-notte
END:VEVENT
END:VCALENDAR
