BEGIN:VCALENDAR
VERSION:2.0
PRODID:-//https://ischiaeventi.it///NONSGML kigkonsult.se iCalcreator 2.10.15//
METHOD:PUBLISH
BEGIN:VEVENT
UID:20260423T225722UTC-13322pz6V6@https://ischiaeventi.it/
DTSTAMP:20260423T225722Z
DESCRIPTION:Cinema Excelsior\nIngresso libero sino ad esaurimento posti\n21
 :00 DEAD MONEY di Luc Wallpoth (USA\, 2025) – 100’ – Introducono i produtt
 ori Seth Michaels e Sara Sometti \n&nbsp\; https://ischiaeventi.it/eventi-
 passati/evento/100787-ischia-global-fest-2025-dead-money
DTSTART:20250711T190000Z
DTEND:20250711T205900Z
LOCATION:Cinema Excelsior (Via Francesco Sogliuzzo\, 18\, 80077 Ischia NA\,
  Italia)
SUMMARY:Ischia Global Fest 2025: DEAD MONEY 
URL:https://ischiaeventi.it/eventi-passati/evento/100787-ischia-global-fest
 -2025-dead-money
END:VEVENT
END:VCALENDAR
