BEGIN:VCALENDAR
VERSION:2.0
PRODID:-//https://ischiaeventi.it///NONSGML kigkonsult.se iCalcreator 2.10.15//
METHOD:PUBLISH
BEGIN:VEVENT
UID:20260423T225341UTC-7487umeEUR@https://ischiaeventi.it/
DTSTAMP:20260423T225341Z
DESCRIPTION:Cinema Excelsior\nIngresso libero sino ad esaurimento posti\n19
 :00 HEY JOE di Claudio Giovannesi (Italia\, 2024) – 117’\n&nbsp\;\n https:
 //ischiaeventi.it/eventi-passati/evento/100789-ischia-global-fest-2025-hey
 -joe
DTSTART:20250712T170000Z
DTEND:20250712T185900Z
LOCATION:Cinema Excelsior (Via Francesco Sogliuzzo\, 18\, 80077 Ischia NA\,
  Italia)
SUMMARY:Ischia Global Fest 2025: HEY JOE 
URL:https://ischiaeventi.it/eventi-passati/evento/100789-ischia-global-fest
 -2025-hey-joe
END:VEVENT
END:VCALENDAR
