BEGIN:VCALENDAR
VERSION:2.0
PRODID:-//https://ischiaeventi.it///NONSGML kigkonsult.se iCalcreator 2.10.15//
METHOD:PUBLISH
BEGIN:VEVENT
UID:20260423T225148UTC-6397xiV4Tk@https://ischiaeventi.it/
DTSTAMP:20260423T225148Z
DESCRIPTION:Cinema Excelsior\nIngresso libero sino ad esaurimento posti\n17
 :30 WICKED di John M. Chu (USA\, 2024) – 161’\n&nbsp\;\n https://ischiaeve
 nti.it/eventi-passati/evento/100792-ischia-global-fest-2025-wicked
DTSTART:20250713T153000Z
DTEND:20250713T185900Z
LOCATION:Cinema Excelsior (Via Francesco Sogliuzzo\, 18\, 80077 Ischia NA\,
  Italia)
SUMMARY:Ischia Global Fest 2025: WICKED 
URL:https://ischiaeventi.it/eventi-passati/evento/100792-ischia-global-fest
 -2025-wicked
END:VEVENT
END:VCALENDAR
