BEGIN:VCALENDAR
VERSION:2.0
PRODID:-//https://ischiaeventi.it///NONSGML kigkonsult.se iCalcreator 2.10.15//
METHOD:PUBLISH
BEGIN:VEVENT
UID:20260424T041823UTC-4172tc7PFv@https://ischiaeventi.it/
DTSTAMP:20260424T041823Z
DESCRIPTION:Cinema delle Vittorie\nIngresso libero sino ad esaurimento post
 i\n21:00 NOTTEFONDA di Giuseppe Miale di Mauro (Italia\, 2025) – 92’- Intr
 oducono gli attori Francesco e Mario Di Leva&nbsp\;\n&nbsp\;\n https://isc
 hiaeventi.it/eventi-passati/evento/100796-ischia-global-fest-2025-nottefon
 da
DTSTART:20250706T190000Z
DTEND:20250706T205900Z
LOCATION:Cinema delle Vittorie (Corso Avvocato Francesco Regine\, 32\, 8007
 5 Forio NA\, Italia)
SUMMARY:Ischia Global Fest 2025: NOTTEFONDA
URL:https://ischiaeventi.it/eventi-passati/evento/100796-ischia-global-fest
 -2025-nottefonda
END:VEVENT
END:VCALENDAR
