BEGIN:VCALENDAR
VERSION:2.0
PRODID:-//https://ischiaeventi.it///NONSGML kigkonsult.se iCalcreator 2.10.15//
METHOD:PUBLISH
BEGIN:VEVENT
UID:20260424T041918UTC-80265Xgj2e@https://ischiaeventi.it/
DTSTAMP:20260424T041918Z
DESCRIPTION:Cinema delle Vittorie\nIngresso libero sino ad esaurimento post
 i\n19:00 UN FILM MINECRAFT di Jared Hess (Nuova Zelanda\, 2025) – 101’\n&n
 bsp\;\n https://ischiaeventi.it/eventi-passati/evento/100799-ischia-global
 -fest-2025-un-film-minecraft
DTSTART:20250707T170000Z
DTEND:20250707T185900Z
LOCATION:Cinema delle Vittorie (Corso Avvocato Francesco Regine\, 32\, 8007
 5 Forio NA\, Italia)
SUMMARY:Ischia Global Fest 2025: UN FILM MINECRAFT 
URL:https://ischiaeventi.it/eventi-passati/evento/100799-ischia-global-fest
 -2025-un-film-minecraft
END:VEVENT
END:VCALENDAR
