BEGIN:VCALENDAR
VERSION:2.0
PRODID:-//https://ischiaeventi.it///NONSGML kigkonsult.se iCalcreator 2.10.15//
METHOD:PUBLISH
BEGIN:VEVENT
UID:20260423T225647UTC-7903u3XphR@https://ischiaeventi.it/
DTSTAMP:20260423T225647Z
DESCRIPTION:Cinema delle Vittorie\nIngresso libero sino ad esaurimento post
 i\n21:00 PATERNAL LEAVE di Alissa Jung (Germania/Italia\, 2025) – 113’\n&n
 bsp\;\n https://ischiaeventi.it/eventi-passati/evento/100804-ischia-global
 -fest-2025-paternal-leave
DTSTART:20250708T190000Z
DTEND:20250708T205900Z
LOCATION:Cinema delle Vittorie (Corso Avvocato Francesco Regine\, 32\, 8007
 5 Forio NA\, Italia)
SUMMARY:Ischia Global Fest 2025: PATERNAL LEAVE 
URL:https://ischiaeventi.it/eventi-passati/evento/100804-ischia-global-fest
 -2025-paternal-leave
END:VEVENT
END:VCALENDAR
