BEGIN:VCALENDAR
VERSION:2.0
PRODID:-//https://ischiaeventi.it///NONSGML kigkonsult.se iCalcreator 2.10.15//
METHOD:PUBLISH
BEGIN:VEVENT
UID:20260423T230024UTC-3670lukCwM@https://ischiaeventi.it/
DTSTAMP:20260423T230024Z
DESCRIPTION:Cinema delle Vittorie\nIngresso libero sino ad esaurimento post
 i\n19:30 BERLINGUER. A LOVE STORY di Pierpaolo Farina (Italia\, 2025) – 77
 ’ – Introduce il regista\n&nbsp\;\n https://ischiaeventi.it/eventi-passati
 /evento/100807-ischia-global-fest-2025-berlinguer-a-love-story
DTSTART:20250709T173000Z
DTEND:20250709T185900Z
LOCATION:Cinema delle Vittorie (Corso Avvocato Francesco Regine\, 32\, 8007
 5 Forio NA\, Italia)
SUMMARY:Ischia Global Fest 2025: BERLINGUER. A LOVE STORY 
URL:https://ischiaeventi.it/eventi-passati/evento/100807-ischia-global-fest
 -2025-berlinguer-a-love-story
END:VEVENT
END:VCALENDAR
