BEGIN:VCALENDAR
VERSION:2.0
PRODID:-//https://ischiaeventi.it///NONSGML kigkonsult.se iCalcreator 2.10.15//
METHOD:PUBLISH
BEGIN:VEVENT
UID:20260423T225722UTC-3904FB41eF@https://ischiaeventi.it/
DTSTAMP:20260423T225722Z
DESCRIPTION:Cinema delle Vittorie\nIngresso libero sino ad esaurimento post
 i\n19:00 SULLA TERRA LEGGERI di Sara Fgaier (Italia\, 2024) – 94’\n&nbsp\;
 \n https://ischiaeventi.it/eventi-passati/evento/100810-ischia-global-fest
 -2025-sulla-terra-leggeri
DTSTART:20250710T170000Z
DTEND:20250710T175900Z
LOCATION:Cinema delle Vittorie (Corso Avvocato Francesco Regine\, 32\, 8007
 5 Forio NA\, Italia)
SUMMARY:Ischia Global Fest 2025: SULLA TERRA LEGGERI 
URL:https://ischiaeventi.it/eventi-passati/evento/100810-ischia-global-fest
 -2025-sulla-terra-leggeri
END:VEVENT
END:VCALENDAR
