BEGIN:VCALENDAR
VERSION:2.0
PRODID:-//https://ischiaeventi.it///NONSGML kigkonsult.se iCalcreator 2.10.15//
METHOD:PUBLISH
BEGIN:VEVENT
UID:20260423T225648UTC-0856KHRvxd@https://ischiaeventi.it/
DTSTAMP:20260423T225648Z
DESCRIPTION:Cinema delle Vittorie\nIngresso libero sino ad esaurimento post
 i\n17:00 GIOCO PERICOLOSO di Lucio Pellegrini (Italia\, 2025) – 94’\n&nbsp
 \;\n&nbsp\;\n https://ischiaeventi.it/eventi-passati/evento/100813-ischia-
 global-fest-2025-gioco-pericoloso
DTSTART:20250711T150000Z
DTEND:20250711T165900Z
LOCATION:Cinema delle Vittorie (Corso Avvocato Francesco Regine\, 32\, 8007
 5 Forio NA\, Italia)
SUMMARY:Ischia Global Fest 2025: GIOCO PERICOLOSO 
URL:https://ischiaeventi.it/eventi-passati/evento/100813-ischia-global-fest
 -2025-gioco-pericoloso
END:VEVENT
END:VCALENDAR
