BEGIN:VCALENDAR
VERSION:2.0
PRODID:-//https://ischiaeventi.it///NONSGML kigkonsult.se iCalcreator 2.10.15//
METHOD:PUBLISH
BEGIN:VEVENT
UID:20260423T230053UTC-0583stn78W@https://ischiaeventi.it/
DTSTAMP:20260423T230053Z
DESCRIPTION:Cinema delle Vittorie\nIngresso libero sino ad esaurimento post
 i\n23.00 LA TRAMA FENICIA di Wes Anderson (USA/Germania\, 2025) – 101’\n&n
 bsp\;\n&nbsp\;\n https://ischiaeventi.it/eventi-passati/evento/100816-isch
 ia-global-fest-2025-la-trama-fenicia
DTSTART:20250711T210000Z
DTEND:20250711T215900Z
LOCATION:Cinema delle Vittorie (Corso Avvocato Francesco Regine\, 32\, 8007
 5 Forio NA\, Italia)
SUMMARY:Ischia Global Fest 2025: LA TRAMA FENICIA 
URL:https://ischiaeventi.it/eventi-passati/evento/100816-ischia-global-fest
 -2025-la-trama-fenicia
END:VEVENT
END:VCALENDAR
