BEGIN:VCALENDAR
VERSION:2.0
PRODID:-//https://ischiaeventi.it///NONSGML kigkonsult.se iCalcreator 2.10.15//
METHOD:PUBLISH
BEGIN:VEVENT
UID:20260423T225804UTC-5862oGHBiz@https://ischiaeventi.it/
DTSTAMP:20260423T225804Z
DESCRIPTION:Cinema delle Vittorie\nIngresso libero sino ad esaurimento post
 i\n23:00 LA STANZA ACCANTO di Pedro Almodovar (Spagna/USA/Francia\, 2024) 
 – 107’\n&nbsp\;\n&nbsp\;\n https://ischiaeventi.it/eventi-passati/evento/1
 00819-ischia-global-fest-2025-la-stanza-accanto
DTSTART:20250712T210000Z
DTEND:20250712T215900Z
LOCATION:Cinema delle Vittorie (Corso Avvocato Francesco Regine\, 32\, 8007
 5 Forio NA\, Italia)
SUMMARY:Ischia Global Fest 2025: LA STANZA ACCANTO 
URL:https://ischiaeventi.it/eventi-passati/evento/100819-ischia-global-fest
 -2025-la-stanza-accanto
END:VEVENT
END:VCALENDAR
